BEGIN:VCALENDAR
VERSION:2.0
PRODID:-//Severall Friends - ECPv6.15.16//NONSGML v1.0//EN
CALSCALE:GREGORIAN
METHOD:PUBLISH
X-WR-CALNAME:Severall Friends
X-ORIGINAL-URL:https://www.severallfriends.org
X-WR-CALDESC:Events for Severall Friends
REFRESH-INTERVAL;VALUE=DURATION:PT1H
X-Robots-Tag:noindex
X-PUBLISHED-TTL:PT1H
BEGIN:VTIMEZONE
TZID:America/Denver
BEGIN:DAYLIGHT
TZOFFSETFROM:-0700
TZOFFSETTO:-0600
TZNAME:MDT
DTSTART:20230312T090000
END:DAYLIGHT
BEGIN:STANDARD
TZOFFSETFROM:-0600
TZOFFSETTO:-0700
TZNAME:MST
DTSTART:20231105T080000
END:STANDARD
BEGIN:DAYLIGHT
TZOFFSETFROM:-0700
TZOFFSETTO:-0600
TZNAME:MDT
DTSTART:20240310T090000
END:DAYLIGHT
BEGIN:STANDARD
TZOFFSETFROM:-0600
TZOFFSETTO:-0700
TZNAME:MST
DTSTART:20241103T080000
END:STANDARD
BEGIN:DAYLIGHT
TZOFFSETFROM:-0700
TZOFFSETTO:-0600
TZNAME:MDT
DTSTART:20250309T090000
END:DAYLIGHT
BEGIN:STANDARD
TZOFFSETFROM:-0600
TZOFFSETTO:-0700
TZNAME:MST
DTSTART:20251102T080000
END:STANDARD
END:VTIMEZONE
BEGIN:VEVENT
DTSTART;TZID=America/Denver:20240706T120000
DTEND;TZID=America/Denver:20240706T130000
DTSTAMP:20260423T221846
CREATED:20240503T202749Z
LAST-MODIFIED:20241214T230842Z
UID:18081-1720267200-1720270800@www.severallfriends.org
SUMMARY:MarketMusic
DESCRIPTION:[vc_row css_animation=”” row_type=”row” use_row_as_full_screen_section=”no” type=”full_width” angled_section=”no” text_align=”left” background_image_as_pattern=”without_pattern”][vc_column][vc_row_inner row_type=”row” type=”full_width” text_align=”left” css_animation=””][vc_column_inner width=”2/3″][vc_column_text css=””] \nHarpsichord Obbligato\nHarpsichord chamber music of J.S. Bach and others \n[vc_separator type=’transparent’ position=’center’ thickness=’5′ up=” down=”] \nArtists include: David Solem\, harpsichord; Jeffrey Smith\, violin \nFood for Thought: Today’s speaker is the enterprising Nina Ladegaard\, Founder|Director of the award-winning Squash Blossom Local Food\, the 2022 Local Hero for Innovation & Food Justice\, Edible New Mexico and the 2018 City of Santa Fe’s Small Business of the Year. Squash Blossom is Santa Fe’s lead distributor of wholesale local produce to restaurants in and around Santa Fe. Squash Blossom is also the purveyor of local produce for individual consumers through Blossom Bag Subscriptions complete with home delivery. Nina describes Squash Blossom “as a social enterprise. We work to protect and preserve traditional\, low-impact farming methods\, and prioritize above all else\, fairness for every entity in the farmer ➟ eater value chain.” \n  \nIn addition to sourcing from Ground Stone Farm which Nina and her husband Mat own in Nambé\, New Mexico\, Nina has developed a network of 25 farms from which she and her team obtain fresh produce for her wholesale and retail clients. You may also visit with Mat Ladegaard at his booth at the Santa Fe Farmers’ Market pre-concert. \n  \nAdmission: Enjoy free admission to all concerts\, though donations are warmly appreciated. \nAbout the Performances: Our one-hour concerts feature a stunningly fresh repertoire and include a short break at the midpoint for a Food-Talk\, featuring Santa Fe’s leading food experts—chefs\, authors\, and producers. \nVenue: These world-class performances are held at the Gallery of the New Mexico School for the Arts\, located at 500 Montezuma. Complimentary parking is available across the street.[/vc_column_text][vc_empty_space height=”50px”][/vc_column_inner][vc_column_inner width=”1/3″][vc_single_image image=”16861″ img_size=”full” alignment=”center” css=”” qode_css_animation=”element_from_fade”][vc_empty_space][vc_single_image image=”18250″ img_size=”full” alignment=”center” css=”” qode_css_animation=”element_from_fade”][vc_empty_space height=”50px”][/vc_column_inner][/vc_row_inner][/vc_column][/vc_row]
URL:https://www.severallfriends.org/event/marketmusic-3/
LOCATION:New Mexico School for the Arts\, 500 Montezuma Ave\, Santa Fe\, New Mexico\, 87501\, United States
CATEGORIES:MarketMusic
ATTACH;FMTTYPE=image/png:https://www.severallfriends.org/wp-content/uploads/2023/06/MarketMusic-Logo.png
ORGANIZER;CN="Katie Rietman":MAILTO:manager@severallfriends.org
END:VEVENT
BEGIN:VEVENT
DTSTART;TZID=America/Denver:20240720T120000
DTEND;TZID=America/Denver:20240720T130000
DTSTAMP:20260423T221846
CREATED:20240503T202811Z
LAST-MODIFIED:20241214T230835Z
UID:18083-1721476800-1721480400@www.severallfriends.org
SUMMARY:MarketMusic
DESCRIPTION:[vc_row css_animation=”” row_type=”row” use_row_as_full_screen_section=”no” type=”full_width” angled_section=”no” text_align=”left” background_image_as_pattern=”without_pattern”][vc_column][vc_row_inner row_type=”row” type=”full_width” text_align=”left” css_animation=””][vc_column_inner width=”2/3″][vc_column_text css=””] \nIl Barocco Italiano:\nMusic of Corelli\, Vivaldi and their contemporaries \n[vc_separator type=’transparent’ position=’center’ thickness=’5′ up=” down=”] \nArtists include: Lorenzo Colitto and Lisa Ferguson\, violins; Sally Guenther\, cello; Kathleen McIntosh\, harpsichord \nFood for Thought: Pam Roy is a leader in food policy in New Mexico\, and she had lent her talents to a number of important organizations in the food arena. We are honored to have her speak today. The 2016 Community All Star\, traces her Farmers’ Market Institute roots back to 1989 when the organization was a fledgling start-up. \n  \nShe is the Executive Director and Policy Director of Farm to Table which has Food Policy and Advocacy as a core part of its mission. In this role she coordinates the New Mexico Food & Agriculture Policy Council\, Santa Fe City and County Food Policy Council\, serves as the Rocky Mountain Farmers Union Government Relations for New Mexico\, is a partner of the NM Grown Coalition and the Office of the Governor’s Food Initiative. In a nutshell\, if there is an important conversation about our State’s agricultural policy\, you’ll find this native New Mexican in a seat at the table. \n  \nAdmission: Enjoy free admission to all concerts\, though donations are warmly appreciated. \nAbout the Performances: Our one-hour concerts feature a stunningly fresh repertoire and include a short break at the midpoint for a Food-Talk\, featuring Santa Fe’s leading food experts—chefs\, authors\, and producers. \nVenue: These world-class performances are held at the Gallery of the New Mexico School for the Arts\, located at 500 Montezuma. Complimentary parking is available across the street.[/vc_column_text][vc_empty_space height=”50px”][/vc_column_inner][vc_column_inner width=”1/3″][vc_single_image image=”16861″ img_size=”full” alignment=”center” css=”” qode_css_animation=”element_from_fade”][vc_empty_space][vc_single_image image=”18250″ img_size=”full” alignment=”center” css=”” qode_css_animation=”element_from_fade”][vc_empty_space height=”50px”][/vc_column_inner][/vc_row_inner][/vc_column][/vc_row]
URL:https://www.severallfriends.org/event/marketmusic-4/
LOCATION:New Mexico School for the Arts\, 500 Montezuma Ave\, Santa Fe\, New Mexico\, 87501\, United States
CATEGORIES:MarketMusic
ATTACH;FMTTYPE=image/png:https://www.severallfriends.org/wp-content/uploads/2023/06/MarketMusic-Logo.png
ORGANIZER;CN="Katie Rietman":MAILTO:manager@severallfriends.org
END:VEVENT
END:VCALENDAR