BEGIN:VCALENDAR
VERSION:2.0
PRODID:-//Severall Friends - ECPv6.15.16//NONSGML v1.0//EN
CALSCALE:GREGORIAN
METHOD:PUBLISH
X-ORIGINAL-URL:https://www.severallfriends.org
X-WR-CALDESC:Events for Severall Friends
REFRESH-INTERVAL;VALUE=DURATION:PT1H
X-Robots-Tag:noindex
X-PUBLISHED-TTL:PT1H
BEGIN:VTIMEZONE
TZID:America/Denver
BEGIN:DAYLIGHT
TZOFFSETFROM:-0700
TZOFFSETTO:-0600
TZNAME:MDT
DTSTART:20230312T090000
END:DAYLIGHT
BEGIN:STANDARD
TZOFFSETFROM:-0600
TZOFFSETTO:-0700
TZNAME:MST
DTSTART:20231105T080000
END:STANDARD
BEGIN:DAYLIGHT
TZOFFSETFROM:-0700
TZOFFSETTO:-0600
TZNAME:MDT
DTSTART:20240310T090000
END:DAYLIGHT
BEGIN:STANDARD
TZOFFSETFROM:-0600
TZOFFSETTO:-0700
TZNAME:MST
DTSTART:20241103T080000
END:STANDARD
BEGIN:DAYLIGHT
TZOFFSETFROM:-0700
TZOFFSETTO:-0600
TZNAME:MDT
DTSTART:20250309T090000
END:DAYLIGHT
BEGIN:STANDARD
TZOFFSETFROM:-0600
TZOFFSETTO:-0700
TZNAME:MST
DTSTART:20251102T080000
END:STANDARD
END:VTIMEZONE
BEGIN:VEVENT
DTSTART;TZID=America/Denver:20240803T120000
DTEND;TZID=America/Denver:20240803T130000
DTSTAMP:20260423T204611
CREATED:20240503T202830Z
LAST-MODIFIED:20241214T230747Z
UID:18085-1722686400-1722690000@www.severallfriends.org
SUMMARY:MarketMusic
DESCRIPTION:[vc_row css_animation=”” row_type=”row” use_row_as_full_screen_section=”no” type=”full_width” angled_section=”no” text_align=”left” background_image_as_pattern=”without_pattern”][vc_column][vc_row_inner row_type=”row” type=”full_width” text_align=”left” css_animation=””][vc_column_inner width=”2/3″][vc_column_text css=””] \nGold Medal French Baroque\n[vc_separator type=’transparent’ position=’center’ thickness=’5′ up=” down=”] \nMusic of Couperin\, Rameau and others \n[vc_separator type=’transparent’ position=’center’ thickness=’5′ up=” down=”] \nArtists include: Matthew Dirst. guest harpsichord\, Elizabeth Blumenstock and Stephen Redfield\, violins and Katie Rietman\, cello \n  \nFood for Thought: Travel + Leisure lists Ojo Santa Fe Spa Resort as one of the world’s best destination spas. The recipient of a 2022 OpenTable Diners’ Choice Award\, Blue Heron Restaurant is an integral part of the spa’s wellness experience. With a background in nutrition and healthcare coupled with engagements at elite hotels such as Bishop’s Lodge\, Ojo Santa Fe Spa Resort and Chef Zachary seem to be a match made in heaven. \n  \nThis week’s speaker\, Managing Chef Zachary Perron said he has “a passion for supporting people in their journey of improving themselves\,” which he accomplishes through food. “It is part of the integrated approach I have to my work\,” he added. “I am fortunate to have access to the Ojo Farm in Ojo Caliente\, but I also enjoy shopping at the Santa Fe Farmers’ Market. Santa Fe is really a small town and I enjoy the community connections and hearing the stories of the farmers and ranchers.” For more information\, please click here. \n  \nAdmission: Enjoy free admission to all concerts\, though donations are warmly appreciated. \n[vc_separator type=’transparent’ position=’center’  thickness=’5′ up=” down=”] \nAbout the Performances: Our one-hour concerts feature a stunningly fresh repertoire and include a short break at the midpoint for a Food-Talk\, featuring Santa Fe’s leading food experts—chefs\, authors\, and producers. \n[vc_separator type=’transparent’ position=’center’ thickness=’5′ up=” down=”] \nVenue: These world-class performances are held at the Gallery of the New Mexico School for the Arts\, located at 500 Montezuma. Complimentary parking is available across the street.[/vc_column_text][vc_empty_space height=”50px”][/vc_column_inner][vc_column_inner width=”1/3″][vc_single_image image=”16861″ img_size=”full” alignment=”center” css=”” qode_css_animation=”element_from_fade”][vc_empty_space][vc_single_image image=”18250″ img_size=”full” alignment=”center” css=”” qode_css_animation=”element_from_fade”][vc_empty_space height=”50px”][/vc_column_inner][/vc_row_inner][/vc_column][/vc_row]
URL:https://www.severallfriends.org/event/marketmusic-5/
LOCATION:New Mexico School for the Arts\, 500 Montezuma Ave\, Santa Fe\, New Mexico\, 87501\, United States
CATEGORIES:MarketMusic
ATTACH;FMTTYPE=image/png:https://www.severallfriends.org/wp-content/uploads/2023/06/MarketMusic-Logo.png
ORGANIZER;CN="Katie Rietman":MAILTO:manager@severallfriends.org
END:VEVENT
BEGIN:VEVENT
DTSTART;TZID=America/Denver:20240817T120000
DTEND;TZID=America/Denver:20240817T130000
DTSTAMP:20260423T204611
CREATED:20240503T202847Z
LAST-MODIFIED:20241214T230753Z
UID:18087-1723896000-1723899600@www.severallfriends.org
SUMMARY:MarketMusic
DESCRIPTION:[vc_row css_animation=”” row_type=”row” use_row_as_full_screen_section=”no” type=”full_width” angled_section=”no” text_align=”left” background_image_as_pattern=”without_pattern”][vc_column][vc_row_inner row_type=”row” type=”full_width” text_align=”left” css_animation=””][vc_column_inner width=”2/3″][vc_column_text css=””] \nHochschule für Violine\nGerman Baroque works featuring the Violin Music by J.S. Bach\, Handel\, and Telemann \n[vc_separator type=’transparent’ position=’center’ thickness=’5′ up=” down=”] \nFeatures guest violinist Carla Moore and characteristic violin rep of 17th and 18th century Germanic cultures.\nLocal violinists David Felberg and Elizabeth Blumenstock\, cellist Katie Reitman and harpsichordist Kathy McIntosh join her in elucidating the glories of this music! \nFood for Thought: Today’s speaker\, Susan Tarver\, was designated the 2023 Community All Star by the Santa Fe Farmers’ Market Institute. Susan founded the Eldorado Farmers’ Market in 2006 which she oversees to this day. Since 2008\, Susan has also been the Executive Director of Bienvenidos Outreach Inc. which sponsors an essential food pantry on Fifth Street here in Santa Fe. We’ll hear from Susan about the state of food insecurity in our area\, as well as her efforts to support local farmers and to make sure those sourcing their food from the food pantry receive fresh locally-grown food along with nonperishables. \nAdmission: Enjoy free admission to all concerts\, though donations are warmly appreciated. \nAbout the Performances: Our one-hour concerts feature a stunningly fresh repertoire and include a short break at the midpoint for a Food-Talk\, featuring Santa Fe’s leading food experts—chefs\, authors\, and producers. \nVenue: These world-class performances are held at the Gallery of the New Mexico School for the Arts\, located at 500 Montezuma. Complimentary parking is available across the street.[/vc_column_text][vc_empty_space height=”50px”][/vc_column_inner][vc_column_inner width=”1/3″][vc_single_image image=”16861″ img_size=”full” alignment=”center” css=”” qode_css_animation=”element_from_fade”][vc_empty_space][vc_single_image image=”18250″ img_size=”full” alignment=”center” css=”” qode_css_animation=”element_from_fade”][vc_empty_space height=”50px”][/vc_column_inner][/vc_row_inner][/vc_column][/vc_row]
URL:https://www.severallfriends.org/event/marketmusic-6/
LOCATION:New Mexico School for the Arts\, 500 Montezuma Ave\, Santa Fe\, New Mexico\, 87501\, United States
CATEGORIES:MarketMusic
ATTACH;FMTTYPE=image/png:https://www.severallfriends.org/wp-content/uploads/2023/06/MarketMusic-Logo.png
ORGANIZER;CN="Katie Rietman":MAILTO:manager@severallfriends.org
END:VEVENT
BEGIN:VEVENT
DTSTART;TZID=America/Denver:20240831T120000
DTEND;TZID=America/Denver:20240831T130000
DTSTAMP:20260423T204611
CREATED:20240503T202904Z
LAST-MODIFIED:20241214T230759Z
UID:18089-1725105600-1725109200@www.severallfriends.org
SUMMARY:MarketMusic
DESCRIPTION:[vc_row css_animation=”” row_type=”row” use_row_as_full_screen_section=”no” type=”full_width” angled_section=”no” text_align=”left” background_image_as_pattern=”without_pattern”][vc_column][vc_row_inner row_type=”row” type=”full_width” text_align=”left” css_animation=””][vc_column_inner width=”2/3″][vc_column_text css=””] \nBaroque Bassoon\n[vc_separator type=’transparent’ position=’center’ thickness=’5′ up=” down=”] \nMusic by Fasch\, Telemann\, Vivaldi\, and Zelenka with Bassoon at its core\nArtists include: Anna Marsh\, bassoon; Katie Rietman\, cello[/vc_column_text][vc_empty_space][vc_column_text css=””]Food for Thought: Mary Dixon\, longtime vendor at the Santa Fe Farmers’ Market representing Green Tractor Farm and Secretary of the Board of the Santa Fe Farmers’ Market Institute\, will join us as our speaker. Green Tractor Farm was named a 2013 All Star Farm. A family enterprise founded by Mary’s husband Tom\, Green Tractor’s operations have now been passed on to next generation. Rachel Dixon\, and her husband Ned Conwell\, grow a diverse selection of produce and flowers on 3 acres of land in La Cienega\, New Mexico. The farm has been certified organic since 2006. \n  \nAdmission: Enjoy free admission to all concerts\, though donations are warmly appreciated. \n  \nAbout the Performances: Our one-hour concerts feature a stunningly fresh repertoire and include a short break at the midpoint for a Food-Talk\, featuring Santa Fe’s leading food experts—chefs\, authors\, and producers. \n  \nVenue: These world-class performances are held at the Gallery of the New Mexico School for the Arts\, located at 500 Montezuma. Complimentary parking is available across the street.[/vc_column_text][vc_empty_space height=”50px”][/vc_column_inner][vc_column_inner width=”1/3″][vc_single_image image=”16861″ img_size=”full” alignment=”center” css=”” qode_css_animation=”element_from_fade”][vc_empty_space][vc_single_image image=”18250″ img_size=”full” alignment=”center” css=”” qode_css_animation=”element_from_fade”][vc_empty_space height=”50px”][/vc_column_inner][/vc_row_inner][/vc_column][/vc_row]
URL:https://www.severallfriends.org/event/marketmusic-7/
LOCATION:New Mexico School for the Arts\, 500 Montezuma Ave\, Santa Fe\, New Mexico\, 87501\, United States
CATEGORIES:MarketMusic
ATTACH;FMTTYPE=image/png:https://www.severallfriends.org/wp-content/uploads/2023/06/MarketMusic-Logo.png
ORGANIZER;CN="Katie Rietman":MAILTO:manager@severallfriends.org
END:VEVENT
END:VCALENDAR