BEGIN:VCALENDAR
VERSION:2.0
PRODID:-//Severall Friends - ECPv6.15.16//NONSGML v1.0//EN
CALSCALE:GREGORIAN
METHOD:PUBLISH
X-WR-CALNAME:Severall Friends
X-ORIGINAL-URL:https://www.severallfriends.org
X-WR-CALDESC:Events for Severall Friends
REFRESH-INTERVAL;VALUE=DURATION:PT1H
X-Robots-Tag:noindex
X-PUBLISHED-TTL:PT1H
BEGIN:VTIMEZONE
TZID:America/Denver
BEGIN:DAYLIGHT
TZOFFSETFROM:-0700
TZOFFSETTO:-0600
TZNAME:MDT
DTSTART:20230312T090000
END:DAYLIGHT
BEGIN:STANDARD
TZOFFSETFROM:-0600
TZOFFSETTO:-0700
TZNAME:MST
DTSTART:20231105T080000
END:STANDARD
BEGIN:DAYLIGHT
TZOFFSETFROM:-0700
TZOFFSETTO:-0600
TZNAME:MDT
DTSTART:20240310T090000
END:DAYLIGHT
BEGIN:STANDARD
TZOFFSETFROM:-0600
TZOFFSETTO:-0700
TZNAME:MST
DTSTART:20241103T080000
END:STANDARD
BEGIN:DAYLIGHT
TZOFFSETFROM:-0700
TZOFFSETTO:-0600
TZNAME:MDT
DTSTART:20250309T090000
END:DAYLIGHT
BEGIN:STANDARD
TZOFFSETFROM:-0600
TZOFFSETTO:-0700
TZNAME:MST
DTSTART:20251102T080000
END:STANDARD
END:VTIMEZONE
BEGIN:VEVENT
DTSTART;TZID=America/Denver:20240914T120000
DTEND;TZID=America/Denver:20240914T130000
DTSTAMP:20260423T192934
CREATED:20240503T202924Z
LAST-MODIFIED:20241214T230807Z
UID:18091-1726315200-1726318800@www.severallfriends.org
SUMMARY:MarketMusic
DESCRIPTION:[vc_row css_animation=”” row_type=”row” use_row_as_full_screen_section=”no” type=”full_width” angled_section=”no” text_align=”left” background_image_as_pattern=”without_pattern”][vc_column][vc_row_inner row_type=”row” type=”full_width” text_align=”left” css_animation=””][vc_column_inner width=”2/3″][vc_column_text css=””] \nFantastic Finale\n[vc_separator type=’transparent’ position=’center’ thickness=’5′ up=” down=”] \nEmbrace Your Inner Voices: Music with layered richness in inner harmonies by Bach\, Biber\, and more. \n[vc_separator type=’transparent’ position=’center’ thickness=’5′ up=” down=”] \nFeaturing: Elizabeth Blumenstock and Aaron Westman\, violins; Anna Washburn and Lisa Grodin\, violas; Mary Springfels\, viola da gamba; Katie Rietman\, cello; Deborah Dunham\, violone \n[vc_separator type=’transparent’ position=’center’ thickness=’5′ up=” down=”] \nAdmission: Enjoy free admission to all concerts\, though donations are warmly appreciated. \n[vc_separator type=’transparent’ position=’center’  thickness=’5′ up=” down=”] \nAbout the Performances: Our one-hour concerts feature a stunningly fresh repertoire and include a short break at the midpoint for a Food-Talk\, featuring Santa Fe’s leading food experts—chefs\, authors\, and producers. \n[vc_separator type=’transparent’ position=’center’ thickness=’5′ up=” down=”] \nVenue: These world-class performances are held at the Gallery of the New Mexico School for the Arts\, located at 500 Montezuma. Complimentary parking is available across the street. \n[vc_separator type=’transparent’ position=’center’ thickness=’5′ up=” down=”] \nFood for Thought: This week\, Edible Magazine’s Local Hero Award for Best Restaurant in Santa Fe\, 2022 recipient Marja Martin will be our speaker. Under Marja’s direction as Owner of Paloma and its sister restaurant Esquina Pizza\, Paloma’s team strives for full sustainability in its business practices and in how they approach food. In her own words\, “Driven by the creativity and inspiration that comes from our own community and that of our neighbors across the border\, we strive to bring you a fresh perspective via Mexican-inspired cuisine.” For more information please click here.[/vc_column_text][vc_empty_space height=”50px”][/vc_column_inner][vc_column_inner width=”1/3″][vc_single_image image=”16861″ img_size=”full” alignment=”center” css=”” qode_css_animation=”element_from_fade”][vc_empty_space][vc_single_image image=”18250″ img_size=”full” alignment=”center” css=”” qode_css_animation=”element_from_fade”][vc_empty_space height=”50px”][/vc_column_inner][/vc_row_inner][/vc_column][/vc_row]
URL:https://www.severallfriends.org/event/marketmusic-8/
LOCATION:New Mexico School for the Arts\, 500 Montezuma Ave\, Santa Fe\, New Mexico\, 87501\, United States
CATEGORIES:MarketMusic
ATTACH;FMTTYPE=image/png:https://www.severallfriends.org/wp-content/uploads/2023/06/MarketMusic-Logo.png
ORGANIZER;CN="Katie Rietman":MAILTO:manager@severallfriends.org
END:VEVENT
END:VCALENDAR