BEGIN:VCALENDAR
VERSION:2.0
PRODID:-//Severall Friends - ECPv6.15.16//NONSGML v1.0//EN
CALSCALE:GREGORIAN
METHOD:PUBLISH
X-ORIGINAL-URL:https://www.severallfriends.org
X-WR-CALDESC:Events for Severall Friends
REFRESH-INTERVAL;VALUE=DURATION:PT1H
X-Robots-Tag:noindex
X-PUBLISHED-TTL:PT1H
BEGIN:VTIMEZONE
TZID:America/Denver
BEGIN:DAYLIGHT
TZOFFSETFROM:-0700
TZOFFSETTO:-0600
TZNAME:MDT
DTSTART:20240310T090000
END:DAYLIGHT
BEGIN:STANDARD
TZOFFSETFROM:-0600
TZOFFSETTO:-0700
TZNAME:MST
DTSTART:20241103T080000
END:STANDARD
BEGIN:DAYLIGHT
TZOFFSETFROM:-0700
TZOFFSETTO:-0600
TZNAME:MDT
DTSTART:20250309T090000
END:DAYLIGHT
BEGIN:STANDARD
TZOFFSETFROM:-0600
TZOFFSETTO:-0700
TZNAME:MST
DTSTART:20251102T080000
END:STANDARD
BEGIN:DAYLIGHT
TZOFFSETFROM:-0700
TZOFFSETTO:-0600
TZNAME:MDT
DTSTART:20260308T090000
END:DAYLIGHT
BEGIN:STANDARD
TZOFFSETFROM:-0600
TZOFFSETTO:-0700
TZNAME:MST
DTSTART:20261101T080000
END:STANDARD
END:VTIMEZONE
BEGIN:VEVENT
DTSTART;TZID=America/Denver:20250913T120000
DTEND;TZID=America/Denver:20250913T130000
DTSTAMP:20260422T223840
CREATED:20250814T135956Z
LAST-MODIFIED:20250814T135956Z
UID:19888-1757764800-1757768400@www.severallfriends.org
SUMMARY:MarketMusic
DESCRIPTION:[vc_row css_animation=”” row_type=”row” use_row_as_full_screen_section=”no” type=”full_width” angled_section=”no” text_align=”left” background_image_as_pattern=”without_pattern”][vc_column][vc_row_inner row_type=”row” type=”full_width” text_align=”left” css_animation=””][vc_column_inner width=”2/3″][vc_column_text css=””] \nSaturday\, September 13\, 2025 – Fantastic Finale\n  \nTime: 12:00 PM\nVenue: Thaw Gallery at New Mexico School for the Arts\,\n500 Montezuma Avenue\, Santa Fe\, 87501\n \n  \nMusick 1650-1750: \nRiches of the London Baroque\n With guest: Kathryn Montoya\, oboe\, and James Oxley\, tenor \n  \n\n  \nQuestions? Call: (505) 930-9393 \nMarketMusic is deeply grateful to the New Mexico School for the Arts for welcoming our artists and audiences into its gallery\, a wonderfully intimate concert venue. \nIf you would like to join our growing list of supporters\, please make a contribution through our secure website\, or make a check payable to Severall Friends and mail it to: \n  \nSeverall Friends NFP\n64 Vista del Oro\, Cerrillos\, NM 87010 \n  \nProgram and artists subject to change.[/vc_column_text][vc_empty_space height=”50px”][/vc_column_inner][vc_column_inner width=”1/3″][vc_single_image image=”16861″ img_size=”full” alignment=”center” css=”” qode_css_animation=”element_from_fade”][vc_empty_space][vc_single_image image=”18250″ img_size=”full” alignment=”center” css=”” qode_css_animation=”element_from_fade”][vc_empty_space height=”50px”][/vc_column_inner][/vc_row_inner][/vc_column][/vc_row][vc_row css_animation=”” row_type=”row” use_row_as_full_screen_section=”no” type=”full_width” angled_section=”no” text_align=”left” background_image_as_pattern=”without_pattern”][vc_column][vc_separator type=”normal”][vc_empty_space][/vc_column][/vc_row]
URL:https://www.severallfriends.org/event/marketmusic-12/
LOCATION:Thaw Gallery at New Mexico School for the Arts\, 500 Montezuma Avenue\, Santa Fe\, 87501\, United States
CATEGORIES:MarketMusic
ATTACH;FMTTYPE=image/png:https://www.severallfriends.org/wp-content/uploads/2023/06/MarketMusic-Logo.png
ORGANIZER;CN="Katie Rietman":MAILTO:manager@severallfriends.org
END:VEVENT
END:VCALENDAR