BEGIN:VCALENDAR
VERSION:2.0
PRODID:-//Severall Friends - ECPv6.15.16//NONSGML v1.0//EN
CALSCALE:GREGORIAN
METHOD:PUBLISH
X-ORIGINAL-URL:https://www.severallfriends.org
X-WR-CALDESC:Events for Severall Friends
REFRESH-INTERVAL;VALUE=DURATION:PT1H
X-Robots-Tag:noindex
X-PUBLISHED-TTL:PT1H
BEGIN:VTIMEZONE
TZID:America/Denver
BEGIN:DAYLIGHT
TZOFFSETFROM:-0700
TZOFFSETTO:-0600
TZNAME:MDT
DTSTART:20240310T090000
END:DAYLIGHT
BEGIN:STANDARD
TZOFFSETFROM:-0600
TZOFFSETTO:-0700
TZNAME:MST
DTSTART:20241103T080000
END:STANDARD
BEGIN:DAYLIGHT
TZOFFSETFROM:-0700
TZOFFSETTO:-0600
TZNAME:MDT
DTSTART:20250309T090000
END:DAYLIGHT
BEGIN:STANDARD
TZOFFSETFROM:-0600
TZOFFSETTO:-0700
TZNAME:MST
DTSTART:20251102T080000
END:STANDARD
BEGIN:DAYLIGHT
TZOFFSETFROM:-0700
TZOFFSETTO:-0600
TZNAME:MDT
DTSTART:20260308T090000
END:DAYLIGHT
BEGIN:STANDARD
TZOFFSETFROM:-0600
TZOFFSETTO:-0700
TZNAME:MST
DTSTART:20261101T080000
END:STANDARD
END:VTIMEZONE
BEGIN:VEVENT
DTSTART;TZID=America/Denver:20250126T150000
DTEND;TZID=America/Denver:20250126T163000
DTSTAMP:20260424T040004
CREATED:20241118T232905Z
LAST-MODIFIED:20250122T195858Z
UID:18696-1737903600-1737909000@www.severallfriends.org
SUMMARY:Romancing the Rose
DESCRIPTION:[vc_row css_animation=”” row_type=”row” use_row_as_full_screen_section=”no” type=”full_width” angled_section=”no” text_align=”left” background_image_as_pattern=”without_pattern”][vc_column][vc_empty_space][vc_column_text css=”.vc_custom_1737575895125{border-top-width: 10px !important;border-right-width: 10px !important;border-bottom-width: 10px !important;border-left-width: 10px !important;padding-top: 20px !important;padding-right: 20px !important;padding-bottom: 20px !important;padding-left: 20px !important;background-color: #FBF2F2 !important;border-left-style: solid !important;border-right-style: solid !important;border-top-style: solid !important;border-bottom-style: solid !important;border-color: #FBF2F2 !important;}”]This Ticket is Sold Out \nIf any cancellations occur\, a limited number of tickets may become available at the door on a first-come\, first-served basis. Thank you![/vc_column_text][vc_empty_space][/vc_column][/vc_row][vc_row css_animation=”” row_type=”row” use_row_as_full_screen_section=”no” type=”full_width” angled_section=”no” text_align=”left” background_image_as_pattern=”without_pattern”][vc_column][vc_row_inner row_type=”row” type=”full_width” text_align=”left” css_animation=””][vc_column_inner width=”2/3″][vc_column_text css=””]The Romance of the Rose was one of the most influential works of medieval imaginative literature. It was copied innumerable times\, from its inception in the 1200s until the age of the printing press\, and was read throughout Europe\, from England to Italy.\nSeverall Friends will offer a tasting menu of delicacies by Machaut\, Ciconia\, Dufay\, and others. \n  \nFeaturing: \nDaniel Meyers\, winds \nEmily Noël\, voice \nMark Rimple\, strings \nMary Springfels\, strings \nDesirée Mays\, narrator \n  \nWe are thrilled to announce that guest projection designer Shawn Keener will be joining us for the Romancing the Rose concert. Shawn will be illuminating the performance with beautiful\, captivating images\, adding a unique visual experience to complement the music.[/vc_column_text][vc_empty_space height=”50px”][/vc_column_inner][vc_column_inner width=”1/3″][vc_single_image image=”18706″ img_size=”full” alignment=”center” css=”” qode_css_animation=”element_from_fade”][vc_empty_space height=”50px”][/vc_column_inner][/vc_row_inner][/vc_column][/vc_row][vc_row css_animation=”” row_type=”row” use_row_as_full_screen_section=”no” type=”full_width” angled_section=”no” text_align=”left” background_image_as_pattern=”without_pattern”][vc_column][vc_empty_space][vc_separator type=”normal”][vc_empty_space][/vc_column][/vc_row][vc_row css_animation=”” row_type=”row” use_row_as_full_screen_section=”no” type=”full_width” angled_section=”no” text_align=”left” background_image_as_pattern=”without_pattern”][vc_column width=”1/4″][vc_single_image image=”18698″ alignment=”center” style=”vc_box_circle” css=”” qode_css_animation=””][vc_empty_space height=”12px”][vc_column_text css=””] \nDaniel Meyers\nWinds \n[/vc_column_text]Read More\n\n	\n		\n			\n			 \nDaniel Meyers\n  \nA versatile multi-instrumentalist\, Dan Meyers is a flexible and engaging performer of both classical and folk music; his credits range from premieres of contemporary chamber music\, to headlining a concert series in honor of Pete Seeger at the Newport Folk Festival\, to playing Renaissance instruments on Broadway for Shakespeare’s Globe Theatre Company. He is a founding member of the early music/folk crossover group Seven Times Salt\, and in recent seasons he has performed with the The Folger Consort\, The Newberry Consort\, Hesperus\, Dünya\, The Henry Purcell Society of Boston\, Early Music New York\, Amherst Early Music\, The 21st Century Consort\, In Stile Moderno\, and the Cambridge Revels\, making concert and theatrical appearances in NYC\, Washington DC\, Chicago\, Minneapolis\, Memphis\, Santa Fe\, at the Yellow Barn Festival in Vermont\, and at at the “La Luna e i Calanchi” festival in Basilicata (Italy). \nHe enjoys playing traditional Irish music with the bands Ulster Landing and Ishna\, as well as eclectic fusion from around the Mediterranean with the US/Italy-based group Zafarán; he also played winds and percussion for over a decade with the award-winning Italian folk music group Newpoli. As an educator\, he has taught historical wind instruments for the Five Colleges Early Music Program in Massachusetts\, at Tufts University\, and at festivals and workshops around the Northeast. \nwww.danmeyersmusic.com\n			\n	\n	\n	Close\n[/vc_column][vc_column width=”1/4″][vc_single_image image=”16899″ alignment=”center” style=”vc_box_circle” css=”” qode_css_animation=”” el_class=”grayscale”][vc_empty_space height=”12px”][vc_column_text css=””] \nEmily Noël\nVoice \n[/vc_column_text]Read More\n\n	\n		\n			\n			 \nEmily Noël\n  \nSoprano Emily Noël has appeared as a soloist with many leading early music ensembles\, including The Folger Consort\, The Gabrieli Players\, and the Washington Bach Consort. Recent stage credits include Measure + Dido at the John F. Kennedy Center in Washington DC; Davenant’s Macbeth at the Folger Shakespeare Theatre; The Merchant of Venice at the Wanamaker Theatre at Shakespeare’s Globe in London; Vaughn Williams’ Riders to the Sea at the Amsterdam Grachtenfestival; and Verdi’s Rigoletto at Ente Concerti Città di Iglesias in Sardinia\, Italy. This summer will mark Emily’s tenth year singing with the Santa Fe Desert Chorale. A passionate educator\, Emily has served on the faculties of Franklin and Marshall College\, Notre Dame of Maryland University\, and The Community College of Rhode Island. She currently teaches at Otterbein University\, where she directs the Cardinal Singers.\n			\n	\n	\n	Close\n[/vc_column][vc_column width=”1/4″][vc_single_image image=”15908″ alignment=”center” style=”vc_box_circle” css=”” qode_css_animation=””][vc_empty_space height=”12px”][vc_column_text css=””] \nMark Rimple\nStrings \n[/vc_column_text]Read More\n\n	\n		\n			\n			 \nMark Rimple\n  \nMark Rimple has garnered critical notice for his interpretation of early music from national newspapers and journals including the Philadelphia Inquirer\, The New York Times\, the Chicago Tribune\, The Washington Post\, Early Music America\, and Early Music (UK). \nHe is a founding member of the vocal-instrumental ensemble TREFOIL and appears frequently with viola da gambist Mary Springfels’ ensemble Severall Friends (Santa Fe\, NM). He has appeared with The Folger Consort\, The Newberry Consort\, Piffaro\, the Renaissance Band\, The Nota Bene Viol Consort\, The King’s Noyse\, Les Delices and Blue Heron\, Ex Umbris (at the Clinton White House)\, New York’s Ensemble for Early Music\, Mélomanie\, Pomerium\, Tempesta di Mare\, Network for New Music\, Seven Times Salt\, The Brandywine Singers\, Cygnus Ensemble and the GEMS production of The Play of Daniel. His CD of solo Italian lute music for three different instruments (Tre Liuti\, available on CDBaby\, ITunes\, etc.) received highly favorable reviews. \nMark principally plays medieval and Renaissance lute\, archlute\, gittern\, citole\, psaltery\, cittern\, and viol. In early 2023\, he will make a recording of solo works for archlute and classical guitar (playing without nails) featuring works by Bach (BWV 1004 and 998) on archlute\, and guitar repertoire by Villa Lobos\, Tansman\, Mompou\, and Turina Before his early music career\, he was an accomplished classical guitarist\, specializing in new music. Mark has recorded early and new music as countertenor and lutenist with the Newberry Consort\, Trefoil\, Seven Times Salt\, and Cygnus Ensemble and has performed with The Pennsylvania Ballet Orchestra and Curtis Orchestra (on mandolin)\, The Philadelphia Chamber Orchestra (lute)\, Network for New Music (lute\, guitar\, mandolin) and The Philadelphia Classical Symphony (guitar). \nMark is a Professor of Music Theory and Composition at The Wells School of Music at West Chester University of Pennsylvania.\n			\n	\n	\n	Close\n[/vc_column][vc_column width=”1/4″][vc_single_image image=”15874″ alignment=”center” style=”vc_box_circle” css=”” qode_css_animation=””][vc_empty_space height=”12px”][vc_column_text css=””] \nMary Springfels\nStrings \n[/vc_column_text]Read More\n\n	\n		\n			\n			 \nMary Springfels\n  \nMary Springfels is a veteran of the American early music movement. She began\nher career at the age of 21 with the New York Pro Musica\, and has played with most of the major ensembles in the field\, including the Waverly Consort\, The Folger Consort\, Philharmonia Baroque\, the Seattle Baroque Orchestra\, Musica Sacra of New York\, and Pomerium Musices\, to name a few. In 1983 she became Musician in-Residence at the Newberry Library\, and was the director of the Newberry Consort for 20 years. In 2008\, she fulfilled a lifelong dream\, and moved to New Mexico. Since then\, she has travelled widely\, working with Sonoma Bach\, the Lobo Baroque Orchestra\, the Arizona Bach Society\, Ars Lyrica of Houston\, The Texas Early Music Project of Austin\, and continues to work with Drew Minter\, and her beloved colleagues at the Folger Consort. She can be heard on dozens of recordings. Springfels is also a very active teacher and coach. She and Elizabeth Blumenstock are Co-Directors of the newly founded Severall Friends\, based in Santa Fe.\n			\n	\n	\n	Close\n[/vc_column][/vc_row][vc_row css_animation=”” row_type=”row” use_row_as_full_screen_section=”no” type=”full_width” angled_section=”no” text_align=”left” background_image_as_pattern=”without_pattern”][vc_column width=”1/4″][vc_single_image image=”19050″ alignment=”center” style=”vc_box_circle_2″ css=”” qode_css_animation=”” el_class=”grayscale”][vc_empty_space height=”12px”][vc_column_text css=””] \nShawn Keener\nProjection Designer \n[/vc_column_text]Read More\n\n	\n		\n			\n			 \nShawn Keener\nProjection Designer\nTrained as a music historian\, Shawn Keener is a graphic designer\, translator\, and book indexer based in Chicago. Her scholarly work examining the intersection of vernacular song and cultural memory in 16th-century Venice was supported by a Fulbright grant (Italy\, 2007–08) and a Harper Dissertation-Year Fellowship at the University of Chicago. Since 2012 she has curated and designed projections for live performance and concert videos that are visual extensions of historically informed performance. She has collaborated with the Newberry Consort (Chicago)\, Les Délices (Cleveland)\, Blue Heron (Boston)\, Trobár (Cleveland)\, and Severall Friends (Santa Fe). Before launching Keener Editorial in late 2019\, Shawn worked for several years at the Newberry Library in Chicago and was for three years a staff editor in the Recent Researches series at A-R Editions (Middleton\, WI)\, the leading North American publisher of scholarly editions of music. \nwww.keenereditorial.com\n			\n	\n	\n	Close\n[/vc_column][vc_column width=”1/4″][vc_single_image image=”19052″ alignment=”center” style=”vc_box_circle_2″ css=”” qode_css_animation=”” el_class=”grayscale”][vc_empty_space height=”12px”][vc_column_text css=””] \nDesirée Mays\nNarrator \n[/vc_column_text]Read More\n\n	\n		\n			\n			 \nDesirée Mays\nNarrator\nDesirée Mays narrated Severall Friends’ medieval version of Tristan and Isolde in 2023. She returns to tell the tale of The Romance of the Rose\, a timeless poem on the trials and tribulations of Love. Desirée speaks all over the US to opera companies and groups; she is the author of the Opera Unveiled series of books\, and is a radio producer and interviewer on opera. She will return this summer to The Santa Fe Opera as the preview speaker for Die Walküre.\n			\n	\n	\n	Close\n[/vc_column][vc_column width=”1/4″][/vc_column][vc_column width=”1/4″][/vc_column][/vc_row][vc_row css_animation=”” row_type=”row” use_row_as_full_screen_section=”no” type=”full_width” angled_section=”no” text_align=”left” background_image_as_pattern=”without_pattern”][vc_column offset=”vc_hidden-lg vc_hidden-md vc_hidden-sm vc_hidden-xs”][vc_separator type=”normal”][vc_empty_space][vc_column_text css=”.vc_custom_1736798141356{border-top-width: 10px !important;border-right-width: 10px !important;border-bottom-width: 10px !important;border-left-width: 10px !important;padding-top: 20px !important;padding-right: 20px !important;padding-bottom: 20px !important;padding-left: 20px !important;background-color: #FBF2F2 !important;border-left-style: solid !important;border-right-style: solid !important;border-top-style: solid !important;border-bottom-style: solid !important;border-color: #FBF2F2 !important;}”]Having Trouble Purchasing Tickets? \nIf you have difficulty buying a ticket here\, please try refreshing the page first: Click HERE. Make sure you have selected the quantity of tickets before clicking the “Get Tickets” button. If the issue persists\, please send an email to manager@severallfriends.org or call (505) 930-9393. Leave your name\, phone number\, event name\, and the number of tickets you’d like\, and we’ll reserve them for you. Payment can be processed later. Thank you for your understanding![/vc_column_text][/vc_column][/vc_row][vc_row css_animation=”” row_type=”row” use_row_as_full_screen_section=”no” type=”full_width” angled_section=”no” text_align=”left” background_image_as_pattern=”without_pattern”][vc_column][vc_separator type=”normal”][vc_empty_space][vc_column_text css=”.vc_custom_1737575895125{border-top-width: 10px !important;border-right-width: 10px !important;border-bottom-width: 10px !important;border-left-width: 10px !important;padding-top: 20px !important;padding-right: 20px !important;padding-bottom: 20px !important;padding-left: 20px !important;background-color: #FBF2F2 !important;border-left-style: solid !important;border-right-style: solid !important;border-top-style: solid !important;border-bottom-style: solid !important;border-color: #FBF2F2 !important;}”]This Ticket is Sold Out \nIf any cancellations occur\, a limited number of tickets may become available at the door on a first-come\, first-served basis. Thank you![/vc_column_text][/vc_column][/vc_row]
URL:https://www.severallfriends.org/event/romancing-the-rose/
LOCATION:Thaw Gallery at New Mexico School for the Arts\, 500 Montezuma Avenue\, Santa Fe\, 87501\, United States
ATTACH;FMTTYPE=image/jpeg:https://www.severallfriends.org/wp-content/uploads/2024/11/le-roman-de-la-rose.jpg
ORGANIZER;CN="Katie Rietman":MAILTO:manager@severallfriends.org
END:VEVENT
END:VCALENDAR